BEGIN:VCALENDAR
VERSION:2.0
PRODID:-//demosphere.net//NONSGML kigkonsult.se iCalcreator 2.22.1//
METHOD:REQUEST
X-WR-TIMEZONE:Europe/Paris
BEGIN:VEVENT
UID:https://sarthe.demosphere.net/rv/6825
DTSTAMP:20260528T173000Z
DESCRIPTION:plus d'infos sur : https://sarthe.demosphere.net/rv/6825
DTSTART:20260528T173000Z
DTEND:20260528T183000Z
GEO:+47.955504;+0.124839
LOCATION:Allonnes\, \nLe Patis Vert \n118\, route du Patis Vert \n72700 All
 onnes
SUMMARY:Voyage en 2030 Glorieuses au Patis Vert : à la découverte de futurs
  optimistes
URL:https://sarthe.demosphere.net/rv/6825
END:VEVENT
END:VCALENDAR
