BEGIN:VCALENDAR
VERSION:2.0
PRODID:-//demosphere.net//NONSGML kigkonsult.se iCalcreator 2.22.1//
METHOD:REQUEST
X-WR-TIMEZONE:Europe/Paris
BEGIN:VEVENT
UID:https://sarthe.demosphere.net/rv/6824
DTSTAMP:20260427T161500Z
DESCRIPTION:plus d'infos sur : https://sarthe.demosphere.net/rv/6824
DTSTART:20260427T161500Z
DTEND:20260427T171500Z
GEO:+48.004299;+0.200318
LOCATION:Le Mans\, \nCinéma Les Cinéastes\, \n42 Place des Comtes du Maine\
 , \n72000 Le Mans
SUMMARY:Projection du film documentaire 'L'heure de la libération a sonné' 
 (résistance Oman)
URL:https://sarthe.demosphere.net/rv/6824
END:VEVENT
END:VCALENDAR
