BEGIN:VCALENDAR
VERSION:2.0
PRODID:-//demosphere.net//NONSGML kigkonsult.se iCalcreator 2.22.1//
METHOD:REQUEST
X-WR-TIMEZONE:Europe/Paris
BEGIN:VEVENT
UID:https://sarthe.demosphere.net/rv/6823
DTSTAMP:20260528T160000Z
DESCRIPTION:plus d'infos sur : https://sarthe.demosphere.net/rv/6823
DTSTART:20260528T160000Z
DTEND:20260528T170000Z
GEO:+48.004299;+0.200318
LOCATION:Le Mans\, \nCinéma Les Cinéastes\, \n42 Place des Comtes du Maine\
 , \n72000 Le Mans
SUMMARY:Ciné-discussion du film 'Dalloway' (Intelligences Artificielles)
URL:https://sarthe.demosphere.net/rv/6823
END:VEVENT
END:VCALENDAR
