BEGIN:VCALENDAR
VERSION:2.0
PRODID:-//demosphere.net//NONSGML kigkonsult.se iCalcreator 2.22.1//
METHOD:REQUEST
X-WR-TIMEZONE:Europe/Paris
BEGIN:VEVENT
UID:https://sarthe.demosphere.net/rv/6822
DTSTAMP:20260521T181500Z
DESCRIPTION:plus d'infos sur : https://sarthe.demosphere.net/rv/6822
DTSTART:20260521T181500Z
DTEND:20260521T191500Z
GEO:+48.004299;+0.200318
LOCATION:Le Mans\, \nCinéma Les Cinéastes\, \n42 Place des Comtes du Maine\
 , \n72000 Le Mans
SUMMARY:Ciné-rencontre du film documentaire 'Derrière les drapeaux\, le sol
 eil' (dictature Paraguay)
URL:https://sarthe.demosphere.net/rv/6822
END:VEVENT
END:VCALENDAR
