BEGIN:VCALENDAR
VERSION:2.0
PRODID:-//demosphere.net//NONSGML kigkonsult.se iCalcreator 2.22.1//
METHOD:REQUEST
X-WR-TIMEZONE:Europe/Paris
BEGIN:VEVENT
UID:https://sarthe.demosphere.net/rv/6820
DTSTAMP:20260428T180000Z
DESCRIPTION:plus d'infos sur : https://sarthe.demosphere.net/rv/6820
DTSTART:20260428T180000Z
DTEND:20260428T190000Z
GEO:+48.004299;+0.200318
LOCATION:Le Mans\, \nCinéma Les Cinéastes\, \n42 Place des Comtes du Maine\
 , \n72000 Le Mans
SUMMARY:Ciné-rencontre des films documentaires 'Vulnérables' et 'L'après-no
 us' (autismes)
URL:https://sarthe.demosphere.net/rv/6820
END:VEVENT
END:VCALENDAR
