BEGIN:VCALENDAR
VERSION:2.0
PRODID:-//demosphere.net//NONSGML kigkonsult.se iCalcreator 2.22.1//
METHOD:REQUEST
X-WR-TIMEZONE:Europe/Paris
BEGIN:VEVENT
UID:https://sarthe.demosphere.net/rv/6819
DTSTAMP:20260610T163000Z
DESCRIPTION:plus d'infos sur : https://sarthe.demosphere.net/rv/6819
DTSTART:20260610T163000Z
DTEND:20260610T173000Z
GEO:+47.982873;+0.214016
LOCATION:72100 Le Mans\, \nL'Allumette\, 7 rue de la Marne
SUMMARY:Assemblée du collectif sarthois des soulèvements de la terre !
URL:https://sarthe.demosphere.net/rv/6819
END:VEVENT
END:VCALENDAR
