BEGIN:VCALENDAR
VERSION:2.0
PRODID:-//demosphere.net//NONSGML kigkonsult.se iCalcreator 2.22.1//
METHOD:REQUEST
X-WR-TIMEZONE:Europe/Paris
BEGIN:VEVENT
UID:https://sarthe.demosphere.net/rv/6818
DTSTAMP:20260511T163000Z
DESCRIPTION:plus d'infos sur : https://sarthe.demosphere.net/rv/6818
DTSTART:20260511T163000Z
DTEND:20260511T173000Z
GEO:+48.000082;+0.192327
LOCATION:Le Mans\, \nMaison des syndicats et des associations (au 3ème étag
 e)\, 4 rue d'Arcole\, Le Mans
SUMMARY:Assemblée du collectif sarthois des soulèvements de la terre !
URL:https://sarthe.demosphere.net/rv/6818
END:VEVENT
END:VCALENDAR
