BEGIN:VCALENDAR
VERSION:2.0
PRODID:-//demosphere.net//NONSGML kigkonsult.se iCalcreator 2.22.1//
METHOD:REQUEST
X-WR-TIMEZONE:Europe/Paris
BEGIN:VEVENT
UID:https://sarthe.demosphere.net/rv/6817
DTSTAMP:20260425T120000Z
DESCRIPTION:plus d'infos sur : https://sarthe.demosphere.net/rv/6817
DTSTART:20260425T120000Z
DTEND:20260425T130000Z
GEO:+48.004302;+0.196774
LOCATION:Le Mans\, \nPlace de la République\, Le Mans
SUMMARY:Manifestation de solidarité avec les palestinien.ne.s
URL:https://sarthe.demosphere.net/rv/6817
END:VEVENT
END:VCALENDAR
